BEGIN:VCALENDAR
VERSION:2.0
PRODID:-//Story-me - ECPv6.15.20//NONSGML v1.0//EN
CALSCALE:GREGORIAN
METHOD:PUBLISH
X-ORIGINAL-URL:https://story-me.be
X-WR-CALDESC:Évènements pour Story-me
REFRESH-INTERVAL;VALUE=DURATION:PT1H
X-Robots-Tag:noindex
X-PUBLISHED-TTL:PT1H
BEGIN:VTIMEZONE
TZID:UTC
BEGIN:STANDARD
TZOFFSETFROM:+0000
TZOFFSETTO:+0000
TZNAME:UTC
DTSTART:20220101T000000
END:STANDARD
END:VTIMEZONE
BEGIN:VEVENT
DTSTART;VALUE=DATE:20231113
DTEND;VALUE=DATE:20231115
DTSTAMP:20260422T112546
CREATED:20230823T092854Z
LAST-MODIFIED:20230823T093255Z
UID:227236-1699833600-1700006399@story-me.be
SUMMARY:Startech's Days
DESCRIPTION:
URL:https://story-me.be/event/startechs-days/
LOCATION:Ciney Expo\, 3 Rue Du Marché Couvert\, Ciney\, Belgique
CATEGORIES:Programme 2e,Sortie
END:VEVENT
END:VCALENDAR